BEGIN:VCALENDAR
VERSION:2.0
PRODID:-//Anna Ozzola - ECPv5.6.0//NONSGML v1.0//EN
CALSCALE:GREGORIAN
METHOD:PUBLISH
X-WR-CALNAME:Anna Ozzola
X-ORIGINAL-URL:https://annaozzola.fr
X-WR-CALDESC:évènements pour Anna Ozzola
BEGIN:VTIMEZONE
TZID:Europe/Helsinki
BEGIN:DAYLIGHT
TZOFFSETFROM:+0200
TZOFFSETTO:+0300
TZNAME:EEST
DTSTART:20210328T010000
END:DAYLIGHT
BEGIN:STANDARD
TZOFFSETFROM:+0300
TZOFFSETTO:+0200
TZNAME:EET
DTSTART:20211031T010000
END:STANDARD
END:VTIMEZONE
BEGIN:VEVENT
DTSTART;TZID=Europe/Helsinki:20211030T140000
DTEND;TZID=Europe/Helsinki:20211030T170000
DTSTAMP:20260423T224855
CREATED:20211023T143858Z
LAST-MODIFIED:20211023T145545Z
UID:4327-1635602400-1635613200@annaozzola.fr
SUMMARY:Un automne en équilibre avec l'Ayurveda
DESCRIPTION:Namaste ? \nAfin de célébrer ce changement de saison et de s’y adapter au mieux\, je vous propose une demie journée de rituels ayurvédiques pour le corps et l’esprit…une science ancestrale pour un automne serein! \nAu programme: \n– Automassage des 5 éléments\n– Exercices de respiration\n– L’ automne et l’équilibre des doshas\n– Alimentation et hygiène de vie\n– Automassage des pieds\n– Méditation… \net quelques surprises… \nJe vous attends avec votre sourire et votre bonne humeur ? \nNombre de places: 4 \nMe contacter directement pour réserver. \n 
URL:https://annaozzola.fr/ateliers/4327/
LOCATION:Lieu\, 11 av. des Esclots\, Saint-Bonnet-en-Champsaur\, 05500\, France
ATTACH;FMTTYPE=image/jpeg:https://annaozzola.fr/wp-content/uploads/2021/10/IMG_20211003_171817_478.jpg
ORGANIZER;CN="Anna":MAILTO:contact@annaozzola.com
END:VEVENT
END:VCALENDAR